BEGIN:VCALENDAR
VERSION:2.0
PRODID:-//Courtisan - ECPv6.15.20//NONSGML v1.0//EN
CALSCALE:GREGORIAN
METHOD:PUBLISH
X-WR-CALNAME:Courtisan
X-ORIGINAL-URL:https://courtisan.fr
X-WR-CALDESC:Évènements pour Courtisan
REFRESH-INTERVAL;VALUE=DURATION:PT1H
X-Robots-Tag:noindex
X-PUBLISHED-TTL:PT1H
BEGIN:VTIMEZONE
TZID:UTC
BEGIN:STANDARD
TZOFFSETFROM:+0000
TZOFFSETTO:+0000
TZNAME:UTC
DTSTART:20230101T000000
END:STANDARD
END:VTIMEZONE
BEGIN:VEVENT
DTSTART;VALUE=DATE:20240906
DTEND;VALUE=DATE:20240907
DTSTAMP:20260423T170319
CREATED:20240717T130838Z
LAST-MODIFIED:20240717T131232Z
UID:922-1725580800-1725667199@courtisan.fr
SUMMARY:LE TROPHÉE GOLF ET PÉTANQUE DE LA RENTRÉE DES COURTIERS IARD
DESCRIPTION:LE TROPHÉE GOLF PÉTANQUE DE LA RENTRÉE DES COURTIERS IARD : Un évènement organisé par Courtisan en partenariat avec Planète CSCA.\n\n\n2 possibilités pour les participants : compétition de golf en scramble à 2 OU  initiation au golf suivi d’un tournoi de pétanque. \n\n\n\n\nAu programme : \n\n1/ Accueil petit-déjeuner disponible de 8h à 11h. \n2/ Départs de la compétition de golf en scramble à 2 à partir de 8h30 (selon le nombre de participants)\, par parties de 4\, toutes les 10 minutes. \n3/ Initiation au golf à partir de 10h30. \n4/ Compétition de pétanque à partir de 12h30 (équipes de 2). \n5/ Barbecue à partir de 13h. \n6/ Remise des prix des tournois de pétanque et de la compétition de golf à partir de 16h\, avec de nombreux lots\, suivie d’un cocktail de fin de journée. \n\nPour vous inscrire :  \n\n\nL’inscription se fait directement via le formulaire en cliquant ICI. \nPour la compétition de golf ou de pétanque : vous pouvez venir seul\, avec un collaborateur ou un ami courtier. Si vous venez seul\, nous vous assignerons à un autre participant !
URL:https://courtisan.fr/evenement/le-trophee-golf-et-petanque-de-la-rentree
LOCATION:Domaine de Manville\, 13520 Les Baux-de-Provence\, Domaine de Manville\, 13520 Les Baux-de-Provence\, Les Baux-de-Provence\, 13520\, France
CATEGORIES:Événement
ATTACH;FMTTYPE=image/png:https://courtisan.fr/wp-content/uploads/2024/07/LE-TROPHEE-GOLF-ET-PETANQUE-DE-LA-RENTREE-DES-COURTIERS-IARD-2.png
ORGANIZER;CN="Courtisan":MAILTO:contact@courtisan.fr
END:VEVENT
END:VCALENDAR