BEGIN:VCALENDAR
VERSION:2.0
PRODID:-//Courtisan - ECPv6.15.20//NONSGML v1.0//EN
CALSCALE:GREGORIAN
METHOD:PUBLISH
X-ORIGINAL-URL:https://courtisan.fr
X-WR-CALDESC:Évènements pour Courtisan
REFRESH-INTERVAL;VALUE=DURATION:PT1H
X-Robots-Tag:noindex
X-PUBLISHED-TTL:PT1H
BEGIN:VTIMEZONE
TZID:UTC
BEGIN:STANDARD
TZOFFSETFROM:+0000
TZOFFSETTO:+0000
TZNAME:UTC
DTSTART:20240101T000000
END:STANDARD
END:VTIMEZONE
BEGIN:VEVENT
DTSTART;VALUE=DATE:20250707
DTEND;VALUE=DATE:20250708
DTSTAMP:20260421T095852
CREATED:20250610T103152Z
LAST-MODIFIED:20250610T103459Z
UID:1274-1751846400-1751932799@courtisan.fr
SUMMARY:Les Elles du Courtage - Séminaire & Soirée Jazz
DESCRIPTION:
URL:https://courtisan.fr/evenement/les-elles-du-courtage-seminaire-soiree-jazz
LOCATION:Vienne
ATTACH;FMTTYPE=image/png:https://courtisan.fr/wp-content/uploads/2025/06/Les-elles-du-courtage-1.png
END:VEVENT
END:VCALENDAR