BEGIN:VCALENDAR
VERSION:2.0
PRODID:-//Courtisan - ECPv6.15.20//NONSGML v1.0//EN
CALSCALE:GREGORIAN
METHOD:PUBLISH
X-ORIGINAL-URL:https://courtisan.fr
X-WR-CALDESC:Évènements pour Courtisan
REFRESH-INTERVAL;VALUE=DURATION:PT1H
X-Robots-Tag:noindex
X-PUBLISHED-TTL:PT1H
BEGIN:VTIMEZONE
TZID:UTC
BEGIN:STANDARD
TZOFFSETFROM:+0000
TZOFFSETTO:+0000
TZNAME:UTC
DTSTART:20220101T000000
END:STANDARD
END:VTIMEZONE
BEGIN:VEVENT
DTSTART;VALUE=DATE:20260317
DTEND;VALUE=DATE:20260318
DTSTAMP:20260424T101159
CREATED:20260303T103220Z
LAST-MODIFIED:20260303T103220Z
UID:1421-1773705600-1773791999@courtisan.fr
SUMMARY:Les Rendez-vous du courtage à Marseille
DESCRIPTION:L’équipe Courtisan sera présente à la 12ᵉ édition du Salon du Courtage de Marseille. \nRetrouvez-nous à l’espace Digital Factory ! Ce sera l’occasion d’échanger et de vous faire découvrir notre solution. Nous serons ravis de vous y accueillir !
URL:https://courtisan.fr/evenement/les-rendez-vous-du-courtage-a-marseille-2
LOCATION:Palais des Congrès – Marseille\, 114 Rond-point du Prado\, Marseille\, 13008\, France
CATEGORIES:Salon du courtage
ATTACH;FMTTYPE=image/jpeg:https://courtisan.fr/wp-content/uploads/2026/03/2.jpg
END:VEVENT
BEGIN:VEVENT
DTSTART;TZID=UTC:20251128T110000
DTEND;TZID=UTC:20251128T113000
DTSTAMP:20260424T101159
CREATED:20251106T125124Z
LAST-MODIFIED:20251106T125343Z
UID:1367-1764327600-1764329400@courtisan.fr
SUMMARY:WEBINAIRE - Acquisition et fidélisation client : Les secrets des courtiers performants
DESCRIPTION:Et si vous simplifiez (enfin) votre quotidien de courtier ?\nEntre les clients à relancer\, les dossiers à suivre et les nouveaux leads à gérer\, les journées d’un courtier sont bien remplies.\nEt pourtant\, certains parviennent à garder une vraie sérénité tout en développant leur portefeuille. \nCe 28 novembre à 11h\, en 30 minutes\, Courtisan et Artur’in vous dévoilent les bonnes pratiques des courtiers performants : \n👉 Comment être plus réactif sans alourdir votre charge\,\n👉 Comment tripler votre visibilité locale sur Google\,\n👉 Et comment fidéliser durablement vos clients. \nLien d’inscription →
URL:https://courtisan.fr/evenement/webinaire-acquisition-et-fidelisation-client-les-secrets-des-courtiers-performants
CATEGORIES:Webinaire
ATTACH;FMTTYPE=image/jpeg:https://courtisan.fr/wp-content/uploads/2025/11/telechargement.jpeg
ORGANIZER;CN="Courtisan":MAILTO:contact@courtisan.fr
END:VEVENT
BEGIN:VEVENT
DTSTART;VALUE=DATE:20250916
DTEND;VALUE=DATE:20250918
DTSTAMP:20260424T101159
CREATED:20250610T091436Z
LAST-MODIFIED:20250610T093258Z
UID:1270-1757980800-1758153599@courtisan.fr
SUMMARY:Les journées du Courtage - Paris
DESCRIPTION:L’équipe Courtisan sera présente à la 24e édition des Journées du Courtage de Paris le 16 et 17 septembre 2025. \nRetrouvez-nous sur notre stand\, au sein de l’espace Digital Factory. N’hésitez pas à venir nous rencontrer !
URL:https://courtisan.fr/evenement/les-journees-du-courtage-paris-2
LOCATION:2 Pl de la Pte Maillot\, 75017 Paris\, Palais des Congrès Paris 2 Pl de la Pte Maillot\, 75017 Paris\, Paris\, 75017
ATTACH;FMTTYPE=image/png:https://courtisan.fr/wp-content/uploads/2025/06/Nous-y-serons-JDC-PARIS-2025-300x250px.png
END:VEVENT
BEGIN:VEVENT
DTSTART;VALUE=DATE:20250707
DTEND;VALUE=DATE:20250708
DTSTAMP:20260424T101159
CREATED:20250610T103152Z
LAST-MODIFIED:20250610T103459Z
UID:1274-1751846400-1751932799@courtisan.fr
SUMMARY:Les Elles du Courtage - Séminaire & Soirée Jazz
DESCRIPTION:
URL:https://courtisan.fr/evenement/les-elles-du-courtage-seminaire-soiree-jazz
LOCATION:Vienne
ATTACH;FMTTYPE=image/png:https://courtisan.fr/wp-content/uploads/2025/06/Les-elles-du-courtage-1.png
END:VEVENT
BEGIN:VEVENT
DTSTART;VALUE=DATE:20250627
DTEND;VALUE=DATE:20250628
DTSTAMP:20260424T101159
CREATED:20250514T101858Z
LAST-MODIFIED:20250514T102315Z
UID:1251-1750982400-1751068799@courtisan.fr
SUMMARY:Le Grand Trophée Golf & Pétanque
DESCRIPTION:Le Grand Trophée Golf & Pétanque au Domaine de Manville*****.\nPréparez-vous à vivre une journée inoubliable offerte par Courtisan & +SIMPLE\, dans un cadre d’exception au Domaine de Manville***** situé au Baux de Provence le vendredi 27 Juin. \n2 possibilités pour les participants : \n\nCompétition de golf en scramble à 2\nCompétition de pétanque et initiation au Golf\n\nAu programme : \nEn résumé : Petit déjeuner\, pétanque\, golf\, BBQ & bonne humeur ! Et pour clôturer\, une grande remise des prix avec de nombreux lots à gagner ! \nLien d’inscription → \nDécouvrir le programme →
URL:https://courtisan.fr/evenement/le-grand-trophee-golf-petanque
LOCATION:Domaine de Manville\, 13520 Les Baux-de-Provence\, Domaine de Manville\, 13520 Les Baux-de-Provence\, Les Baux-de-Provence\, 13520\, France
CATEGORIES:Événement
ATTACH;FMTTYPE=image/jpeg:https://courtisan.fr/wp-content/uploads/2025/05/LE-GRAND-TROPHEE-GOLF-ET-PETANQUE_page-0001.jpg
ORGANIZER;CN="Courtisan":MAILTO:contact@courtisan.fr
END:VEVENT
BEGIN:VEVENT
DTSTART;TZID=UTC:20250624T090000
DTEND;TZID=UTC:20250624T173000
DTSTAMP:20260424T101159
CREATED:20250416T101925Z
LAST-MODIFIED:20250416T101925Z
UID:1142-1750755600-1750786200@courtisan.fr
SUMMARY:Les Rendez-Vous du courtage - Lyon
DESCRIPTION:L’équipe Courtisan sera présente aux rendez-vous du courtage de Lyon le 24 juin 2025 dans l’espace Digital Factory. \nVenez échanger avec nous et découvrir notre solution dédiée aux intermédiaires d’assurance. \n 
URL:https://courtisan.fr/evenement/les-rendez-vous-du-courtage-lyon
LOCATION:Centre des Congrès -Lyon\, Centre des Congrès\, Lyon\, 69006\, France
ATTACH;FMTTYPE=image/png:https://courtisan.fr/wp-content/uploads/2025/04/Design-sans-titre-58.png
END:VEVENT
BEGIN:VEVENT
DTSTART;TZID=UTC:20250415T100000
DTEND;TZID=UTC:20250415T103000
DTSTAMP:20260424T101159
CREATED:20250310T101636Z
LAST-MODIFIED:20250415T093622Z
UID:1125-1744711200-1744713000@courtisan.fr
SUMMARY:Webinar en collaboration avec April
DESCRIPTION:Rejoignez-nous le mardi 15 avril à 10h pour un webinar où nous aborderons  : Les clés de la fidélisation client pour booster votre activité ! \nLe marché du courtage devient de plus en plus concurrentiel… En 30 minutes\, découvrez les bonnes techniques pour fidéliser vos assurés. L’objectif ? Adopter une approche globale de fidélisation et repartir avec des outils concrets pour améliorer l’expérience client. Nous conclurons par un focus sur les sinistres\, un moment clé où vous pouvez transformer une expérience négative en opportunité de satisfaction client. \n  \n🔗 Inscrivez-vous dès maintenant : https://zoom.us/meeting/register/6JfbTIfuQImA6A_zu3eBgg
URL:https://courtisan.fr/evenement/les-cles-de-la-fidelisation-client-pour-booster-votre-activite
ATTACH;FMTTYPE=image/png:https://courtisan.fr/wp-content/uploads/2025/03/Sans-titre-700-x-500-px-1.png
END:VEVENT
BEGIN:VEVENT
DTSTART;TZID=UTC:20250318T090000
DTEND;TZID=UTC:20250318T173000
DTSTAMP:20260424T101159
CREATED:20250130T085909Z
LAST-MODIFIED:20250130T090133Z
UID:1101-1742288400-1742319000@courtisan.fr
SUMMARY:Les Rendez-vous du courtage à Marseille
DESCRIPTION:L’équipe Courtisan sera présente à la 11ᵉ édition du Salon du Courtage de Marseille. \nRetrouvez-nous à l’espace Digital Factory ! Ce sera l’occasion d’échanger et de vous faire découvrir notre solution. Nous serons ravis de vous y accueillir !
URL:https://courtisan.fr/evenement/les-rendez-vous-du-courtage-a-marseille
LOCATION:Marseille Chanot – Palais des Congrès 114 Rond-Point du Prado 13008 Marseille\, Palais des Congrès 114 Rond-Point du Prado\, Marseille\, 13008\, France
ATTACH;FMTTYPE=image/png:https://courtisan.fr/wp-content/uploads/2025/01/f61df8dd-0312-4310-a4f5-892d23d86acb.png
END:VEVENT
BEGIN:VEVENT
DTSTART;TZID=UTC:20250128T100000
DTEND;TZID=UTC:20250128T103000
DTSTAMP:20260424T101159
CREATED:20250116T082119Z
LAST-MODIFIED:20250116T082119Z
UID:1094-1738058400-1738060200@courtisan.fr
SUMMARY:Webinaire Artur'In x Courtisan
DESCRIPTION:En 45 minutes\, découvrez les techniques pour attirer et fidéliser vos assurés ! \nRejoignez-nous le mardi 28 janvier à 10h pour une conférence de 45 minutes au cours de laquelle vous découvrirez comment attirer de nouveaux clients et fidéliser vos assurés. \n🗓️ Au programme : \n\nJulia Martin-Schutte\, responsable marketing digital chez Artur’in\, vous expliquera comment mettre en place une stratégie d’avis clients performante.\nMarine Henkeme\, directrice des partenariats chez Courtisan\, vous montrera comment transformer une expérience négative lors d’un sinistre en une opportunité de fidélisation.
URL:https://courtisan.fr/evenement/webinaire-arturin-x-courtisan
ATTACH;FMTTYPE=image/png:https://courtisan.fr/wp-content/uploads/2025/01/Webinar-Courtisan-280125.png
ORGANIZER;CN="Courtisan":MAILTO:contact@courtisan.fr
END:VEVENT
BEGIN:VEVENT
DTSTART;VALUE=DATE:20241213
DTEND;VALUE=DATE:20241214
DTSTAMP:20260424T101159
CREATED:20241204T113556Z
LAST-MODIFIED:20241204T113838Z
UID:1069-1734048000-1734134399@courtisan.fr
SUMMARY:Déjeuner de Noël - Planète CSCA
DESCRIPTION:Courtisan\, partenaire PLANETE CSCA\, sera présent au déjeuner de Noël à: \n*SAINT LAURENT DU VAR \n*AIX EN PROVENCE \n*SETE \nLe vendredi 13 décembre 🎄
URL:https://courtisan.fr/evenement/dejeuner-de-noel-planete-csca
CATEGORIES:Événement
ATTACH;FMTTYPE=image/png:https://courtisan.fr/wp-content/uploads/2024/12/En-tete-1.png
END:VEVENT
BEGIN:VEVENT
DTSTART;TZID=UTC:20241120T100000
DTEND;TZID=UTC:20241120T103000
DTSTAMP:20260424T101159
CREATED:20241025T125115Z
LAST-MODIFIED:20241106T111027Z
UID:1013-1732096800-1732098600@courtisan.fr
SUMMARY:Webinaire : Comment réussir à utiliser Courtisan pour plus de 80% des sinistres de vos clients ?
DESCRIPTION:Introduction :\nUtiliser Courtisan c’est un client fidélisé et une commission perçue ! Certains partenaires parviennent à mandater une entreprise pour plus de 80 % des sinistres de leurs assurés. Comment y parviennent-ils ?\nDécouvrez les bonnes pratiques pour réussir à utiliser Courtisan au maximum.\n\nAu programme :\n1) Certains de nos courtiers utilisateurs parviennent à mandater une entreprise pour plus de 80% de leurs sinistres MRH et MRP. Comment font-ils ? Quels sont les arguments et avantages qu’ils mettent en avant ? \n2) Interventions de certains courtiers partenaires pour nous partager leurs discours commerciaux\, et retours d’expériences. Apprenez-en encore plus avec les retours d’autres courtiers utilisateurs ! \n3) Avant première sur les grandes améliorations à venir sur la plateforme \n  \nLIEN D’INSCRIPTION :\nhttps://zoom.us/webinar/register/WN_d4xK2KPIQ0eL6yS1RbQxCg \n\nDurée :\n30 minutes
URL:https://courtisan.fr/evenement/webinaire-comment-reussir-a-utiliser-courtisan-pour-plus-de-80-des-sinistres-de-vos-clients
CATEGORIES:Événement,Webinaire
ATTACH;FMTTYPE=image/png:https://courtisan.fr/wp-content/uploads/2024/10/WEBINAIRE-9.png
ORGANIZER;CN="Courtisan":MAILTO:contact@courtisan.fr
END:VEVENT
BEGIN:VEVENT
DTSTART;VALUE=DATE:20241118
DTEND;VALUE=DATE:20241119
DTSTAMP:20260424T101159
CREATED:20241204T114535Z
LAST-MODIFIED:20241204T114722Z
UID:1074-1731888000-1731974399@courtisan.fr
SUMMARY:Partenariat Les Elles du Courtage
DESCRIPTION:Partenaire Or des Elles du Courtage\, Courtisan sera présent à leur événement au Sofitel de Lyon. \n  \n  \n 
URL:https://courtisan.fr/evenement/partenariat-les-elles-du-courtage
ATTACH;FMTTYPE=image/png:https://courtisan.fr/wp-content/uploads/2024/12/En-tete-3.png
END:VEVENT
BEGIN:VEVENT
DTSTART;VALUE=DATE:20240917
DTEND;VALUE=DATE:20240919
DTSTAMP:20260424T101159
CREATED:20240717T124838Z
LAST-MODIFIED:20240717T124838Z
UID:919-1726531200-1726703999@courtisan.fr
SUMMARY:Les Journées du Courtage - PARIS 2024
DESCRIPTION:L’équipe Courtisan sera présente à la 23e édition des Journées du Courtage de Paris 2024. \nVenez nous rencontrer à la Digital Factory !
URL:https://courtisan.fr/evenement/les-journees-du-courtage-paris-2024
LOCATION:Palais des Congrès – Paris\, 2 Pl de la Porte Maillot\, Paris\, 75017
CATEGORIES:Salon du courtage
ATTACH;FMTTYPE=image/png:https://courtisan.fr/wp-content/uploads/2024/07/journee-du-courtage-PARIS.png
END:VEVENT
BEGIN:VEVENT
DTSTART;VALUE=DATE:20240906
DTEND;VALUE=DATE:20240907
DTSTAMP:20260424T101159
CREATED:20240717T130838Z
LAST-MODIFIED:20240717T131232Z
UID:922-1725580800-1725667199@courtisan.fr
SUMMARY:LE TROPHÉE GOLF ET PÉTANQUE DE LA RENTRÉE DES COURTIERS IARD
DESCRIPTION:LE TROPHÉE GOLF PÉTANQUE DE LA RENTRÉE DES COURTIERS IARD : Un évènement organisé par Courtisan en partenariat avec Planète CSCA.\n\n\n2 possibilités pour les participants : compétition de golf en scramble à 2 OU  initiation au golf suivi d’un tournoi de pétanque. \n\n\n\n\nAu programme : \n\n1/ Accueil petit-déjeuner disponible de 8h à 11h. \n2/ Départs de la compétition de golf en scramble à 2 à partir de 8h30 (selon le nombre de participants)\, par parties de 4\, toutes les 10 minutes. \n3/ Initiation au golf à partir de 10h30. \n4/ Compétition de pétanque à partir de 12h30 (équipes de 2). \n5/ Barbecue à partir de 13h. \n6/ Remise des prix des tournois de pétanque et de la compétition de golf à partir de 16h\, avec de nombreux lots\, suivie d’un cocktail de fin de journée. \n\nPour vous inscrire :  \n\n\nL’inscription se fait directement via le formulaire en cliquant ICI. \nPour la compétition de golf ou de pétanque : vous pouvez venir seul\, avec un collaborateur ou un ami courtier. Si vous venez seul\, nous vous assignerons à un autre participant !
URL:https://courtisan.fr/evenement/le-trophee-golf-et-petanque-de-la-rentree
LOCATION:Domaine de Manville\, 13520 Les Baux-de-Provence\, Domaine de Manville\, 13520 Les Baux-de-Provence\, Les Baux-de-Provence\, 13520\, France
CATEGORIES:Événement
ATTACH;FMTTYPE=image/png:https://courtisan.fr/wp-content/uploads/2024/07/LE-TROPHEE-GOLF-ET-PETANQUE-DE-LA-RENTREE-DES-COURTIERS-IARD-2.png
ORGANIZER;CN="Courtisan":MAILTO:contact@courtisan.fr
END:VEVENT
BEGIN:VEVENT
DTSTART;TZID=UTC:20240606T083000
DTEND;TZID=UTC:20240606T233000
DTSTAMP:20260424T101159
CREATED:20231219T110031Z
LAST-MODIFIED:20240513T121251Z
UID:235-1717662600-1717716600@courtisan.fr
SUMMARY:Onze Bis Festival
DESCRIPTION:
URL:https://courtisan.fr/evenement/onze-bis-festival
LOCATION:La Felicita\, 5 Parv. Alan Turing\, Paris\, 75013\, France
CATEGORIES:Événement
ATTACH;FMTTYPE=image/jpeg:https://courtisan.fr/wp-content/uploads/2023/12/Affiche-Onze-Bis-Festival-2024.jpg
END:VEVENT
BEGIN:VEVENT
DTSTART;TZID=UTC:20240319T083000
DTEND;TZID=UTC:20240319T180000
DTSTAMP:20260424T101159
CREATED:20231219T104824Z
LAST-MODIFIED:20231219T105510Z
UID:228-1710837000-1710871200@courtisan.fr
SUMMARY:Les Rendez-vous du Courtage - Marseille 2024
DESCRIPTION:
URL:https://courtisan.fr/evenement/les-rendez-vous-du-courtage
LOCATION:Palais des Congrès – Marseille\, 114 Rond-point du Prado\, Marseille\, 13008\, France
CATEGORIES:Salon du courtage
ATTACH;FMTTYPE=image/png:https://courtisan.fr/wp-content/uploads/2023/12/Capture-decran_20230221_174032-e1702983160797.png
END:VEVENT
BEGIN:VEVENT
DTSTART;TZID=UTC:20240314T093000
DTEND;TZID=UTC:20240314T103000
DTSTAMP:20260424T101159
CREATED:20240306T135911Z
LAST-MODIFIED:20240306T165942Z
UID:826-1710408600-1710412200@courtisan.fr
SUMMARY:Webinaire : Courtiers : comment optimiser son business en temps de crise ? 👀
DESCRIPTION:Face à la crise qui persiste\, 74% des courtiers d’assurance considèrent que le digital est une force 💪\nCe n’est pas un secret : les clients veulent des expériences d’achat fluides et sont à la recherche d’immédiateté dans leurs échanges avec les professionnels. Et les courtiers n’échappent pas à la règle ! Le numérique est une vraie source d’opportunités. \nFace à une profession en pleine mutation\, un seul mot d’ordre : se différencier ! 👋 \nEt pour savoir comment sortir du lot grâce au digital\, nous vous donnons rendez-vous le 14 mars à 9h30 📆 \nAu programme ? Un webinar inédit animé par 3 intervenants aux expertises complémentaires ! \n\n Laura Lelièvre de chez Artur’In vous montrera comment améliorer sa présence locale\n Fayçal Guemara\, CEO d’Assur3D vous guidera dans l’acquisition de leads\n Lucas Drossaert\, co-fondateur de Courtisan vous parlera de fidélisation client\n\nPour résumer : vous verrez en 1h comment vous démarquer à chaque aspect du parcours client 🚀 \nNous espérons vous compter nombreux 👥 \nInscrivez-vous sans tarder en cliquant ici !
URL:https://courtisan.fr/evenement/webinaire-courtiers-comment-optimiser-son-business-en-temps-de-crise
CATEGORIES:Webinaire
ATTACH;FMTTYPE=image/jpeg:https://courtisan.fr/wp-content/uploads/2024/03/telechargement.jpeg
END:VEVENT
BEGIN:VEVENT
DTSTART;TZID=UTC:20240118T093000
DTEND;TZID=UTC:20240118T100000
DTSTAMP:20260424T101159
CREATED:20240105T114107Z
LAST-MODIFIED:20240115T102232Z
UID:785-1705570200-1705572000@courtisan.fr
SUMMARY:Webinaire : Courtiers en 2024 : Misez sur le digital pour booster votre business
DESCRIPTION:Un webinaire en collaboration avec Artur’In\, la vitrine digitale qui véhicule votre expertise auprès des professionnels et qui enrichit votre relation avec vos clients ! \n📝 Au programme : \n\n🤝 Comment rester en contact avec vos clients ?\n🌐 Comment digitaliser votre business en 2024 ?\n💡 Comment transformer un sinistre en opportunité de satisfaction client ?\n\nRejoignez-nous le 18 janvier à 09H30 pour faire de la satisfaction client un pilier de votre croissance. \nLIEN D’INSCRIPTION : https://app.livestorm.co/artur-in-3/courtiers-en-2024-misez-sur-le-digital-pour-booster-votre-business?utm_source=courtisan&utm_campaign=assu
URL:https://courtisan.fr/evenement/webinaire-courtiers-en-2024-misez-sur-le-digital-pour-booster-votre-business
CATEGORIES:Webinaire
ATTACH;FMTTYPE=image/png:https://courtisan.fr/wp-content/uploads/2024/01/Capture-decran-2024-01-05-124245.png
ORGANIZER;CN="Courtisan":MAILTO:contact@courtisan.fr
END:VEVENT
BEGIN:VEVENT
DTSTART;TZID=UTC:20231121T110000
DTEND;TZID=UTC:20231121T113000
DTSTAMP:20260424T101159
CREATED:20231220T152122Z
LAST-MODIFIED:20231220T152122Z
UID:628-1700564400-1700566200@courtisan.fr
SUMMARY:Webinaire : Comment fidéliser son client lors du sinistre ?
DESCRIPTION:À propos de ce webinaire :\n\nDurée : 30 minutes\nFormation : Gratuite\nLien d’inscription : https://zoom.us/webinar/register/WN_pvL9eTU7Qpi2IKLFiy4FEg\n\nInformations :\nLes sinistres sont contraignants. Et si vous en faisiez une arme de fidélisation ? \nAujourd’hui\, nous vous proposons de découvrir comment améliorer l’expérience client et accélérer grandement la prise en charge de vos clients lors des sinistres. \nCourtisan est une plateforme qui permet aux courtiers en assurance de pouvoir mandater une entreprise spécialisée & doublement qualifiée dans le cadre des sinistres habitation (et/ou dommages aux biens immobiliers).\nEn utilisant Courtisan\, vous garantissez à votre assuré sinistré une prise en charge nettement accélérée (réponse en 48h et devis sous 5 jours) et pour chaque sinistre\, vous percevez une commission. \nLes points abordés : \n\nZoom sur la gestion des sinistres et les contraintes pour le courtier\nPrésentation de Courtisan\nDémo de la plateforme\nQuestions / Réponses
URL:https://courtisan.fr/evenement/webinaire-comment-fideliser-son-client-lors-du-sinistre
CATEGORIES:Webinaire
ATTACH;FMTTYPE=image/png:https://courtisan.fr/wp-content/uploads/2023/12/WEBINAIRE.png
ORGANIZER;CN="Courtisan":MAILTO:contact@courtisan.fr
END:VEVENT
BEGIN:VEVENT
DTSTART;TZID=UTC:20230919T090000
DTEND;TZID=UTC:20230920T180000
DTSTAMP:20260424T101159
CREATED:20231220T152316Z
LAST-MODIFIED:20231220T152316Z
UID:632-1695114000-1695232800@courtisan.fr
SUMMARY:Les journées du courtage – Paris
DESCRIPTION:Le mardi 19 septembre et le mercredi 20 septembre 2023\, nous serons présents à la 22ième édition des journées du courtage qui se tiendra au Palais des Congrès à Paris. \nToute l’équipe Courtisan est impatiente de vous rencontrer et de vous présenter son outil destiné aux courtiers en assurance !
URL:https://courtisan.fr/evenement/les-journees-du-courtage-paris
LOCATION:Palais des Congrès – Paris\, 2 Pl de la Porte Maillot\, Paris\, 75017
ATTACH;FMTTYPE=image/png:https://courtisan.fr/wp-content/uploads/2023/12/Nous-y-serons-JDC-PARIS-440x220px.png
END:VEVENT
BEGIN:VEVENT
DTSTART;TZID=UTC:20230914T103000
DTEND;TZID=UTC:20230914T113000
DTSTAMP:20260424T101159
CREATED:20231220T152446Z
LAST-MODIFIED:20231220T152446Z
UID:636-1694687400-1694691000@courtisan.fr
SUMMARY:Webinaire spécial courtiers partenaires !
DESCRIPTION:SUJET :\n“Courtisan\, comment utiliser parfaitement notre outil pour fidéliser votre assuré lors du sinistre ? De la recommandation d’une entreprise à la satisfaction finale !” \nNotre équipe vous a concocté un webinaire 100% dédié à vous\, courtiers utilisateurs\, pour vous aider à mieux proposer la solution Courtisan à vos assurés sinistrés ! \nAu programme :\n1. Certains de nos courtiers utilisateurs parviennent à mandater une entreprise pour plus de 90% de leurs sinistres MRH et MRP. Comment font-ils ? Quels sont les arguments et avantages qu’ils mettent en avant ?\n2. Micros ouverts\, interventions libres entre courtiers utilisateurs présents pour bénéficier de partages et retours d’expériences. Apprenez-en encore plus avec les retours d’autres courtiers utilisateurs !\n3. Comment utiliser notre Kit media pour parfaitement présenter ce nouveau service à votre clientèle ?\n4. Petit Bonus\, notre plateforme vient de faire peau neuve. Nous vous proposons une courte démo pour rapidement prendre en main votre nouvelle interface courtier ainsi que les nouvelles fonctionnalités ! \nLIEN D’INSCRIPTION :\n\n\nhttps://zoom.us/webinar/register/WN_yFm8i5QzSv6QeWTV0s3mog#/registration
URL:https://courtisan.fr/evenement/webinaire-special-courtiers-partenaires
CATEGORIES:Webinaire
ATTACH;FMTTYPE=image/png:https://courtisan.fr/wp-content/uploads/2023/12/WEBINAIRE.png
ORGANIZER;CN="Courtisan":MAILTO:contact@courtisan.fr
END:VEVENT
END:VCALENDAR