BEGIN:VCALENDAR
VERSION:2.0
PRODID:-//Courtisan - ECPv6.15.20//NONSGML v1.0//EN
CALSCALE:GREGORIAN
METHOD:PUBLISH
X-ORIGINAL-URL:https://courtisan.fr
X-WR-CALDESC:Évènements pour Courtisan
REFRESH-INTERVAL;VALUE=DURATION:PT1H
X-Robots-Tag:noindex
X-PUBLISHED-TTL:PT1H
BEGIN:VTIMEZONE
TZID:UTC
BEGIN:STANDARD
TZOFFSETFROM:+0000
TZOFFSETTO:+0000
TZNAME:UTC
DTSTART:20240101T000000
END:STANDARD
END:VTIMEZONE
BEGIN:VEVENT
DTSTART;TZID=UTC:20250415T100000
DTEND;TZID=UTC:20250415T103000
DTSTAMP:20260421T133326
CREATED:20250310T101636Z
LAST-MODIFIED:20250415T093622Z
UID:1125-1744711200-1744713000@courtisan.fr
SUMMARY:Webinar en collaboration avec April
DESCRIPTION:Rejoignez-nous le mardi 15 avril à 10h pour un webinar où nous aborderons  : Les clés de la fidélisation client pour booster votre activité ! \nLe marché du courtage devient de plus en plus concurrentiel… En 30 minutes\, découvrez les bonnes techniques pour fidéliser vos assurés. L’objectif ? Adopter une approche globale de fidélisation et repartir avec des outils concrets pour améliorer l’expérience client. Nous conclurons par un focus sur les sinistres\, un moment clé où vous pouvez transformer une expérience négative en opportunité de satisfaction client. \n  \n🔗 Inscrivez-vous dès maintenant : https://zoom.us/meeting/register/6JfbTIfuQImA6A_zu3eBgg
URL:https://courtisan.fr/evenement/les-cles-de-la-fidelisation-client-pour-booster-votre-activite
ATTACH;FMTTYPE=image/png:https://courtisan.fr/wp-content/uploads/2025/03/Sans-titre-700-x-500-px-1.png
END:VEVENT
END:VCALENDAR